BEGIN:VCALENDAR
VERSION:2.0
PRODID:-// - ECPv6.13.2.1//NONSGML v1.0//EN
CALSCALE:GREGORIAN
METHOD:PUBLISH
X-ORIGINAL-URL:https://naturallyhealthydesserts.com
X-WR-CALDESC:Events for 
REFRESH-INTERVAL;VALUE=DURATION:PT1H
X-Robots-Tag:noindex
X-PUBLISHED-TTL:PT1H
BEGIN:VTIMEZONE
TZID:America/Los_Angeles
BEGIN:DAYLIGHT
TZOFFSETFROM:-0800
TZOFFSETTO:-0700
TZNAME:PDT
DTSTART:20160313T100000
END:DAYLIGHT
BEGIN:STANDARD
TZOFFSETFROM:-0700
TZOFFSETTO:-0800
TZNAME:PST
DTSTART:20161106T090000
END:STANDARD
BEGIN:DAYLIGHT
TZOFFSETFROM:-0800
TZOFFSETTO:-0700
TZNAME:PDT
DTSTART:20170312T100000
END:DAYLIGHT
BEGIN:STANDARD
TZOFFSETFROM:-0700
TZOFFSETTO:-0800
TZNAME:PST
DTSTART:20171105T090000
END:STANDARD
END:VTIMEZONE
BEGIN:VTIMEZONE
TZID:America/New_York
BEGIN:DAYLIGHT
TZOFFSETFROM:-0500
TZOFFSETTO:-0400
TZNAME:EDT
DTSTART:20160313T070000
END:DAYLIGHT
BEGIN:STANDARD
TZOFFSETFROM:-0400
TZOFFSETTO:-0500
TZNAME:EST
DTSTART:20161106T060000
END:STANDARD
END:VTIMEZONE
BEGIN:VEVENT
DTSTART;TZID=America/Los_Angeles:20170607T180000
DTEND;TZID=America/Los_Angeles:20170607T200000
DTSTAMP:20260423T103955
CREATED:20170613T050536Z
LAST-MODIFIED:20170613T050643Z
UID:1509-1496858400-1496865600@naturallyhealthydesserts.com
SUMMARY:Private Event: True Food SD Blogger Workshop
DESCRIPTION:
URL:https://naturallyhealthydesserts.com/workshops-events/private-event-true-food-sd-blogger-workshop
ATTACH;FMTTYPE=image/jpeg:https://naturallyhealthydesserts.com/wp-content/uploads/2017/06/F053BDC7-E08D-478B-B65C-A570D8A8C7E7.jpg
END:VEVENT
BEGIN:VEVENT
DTSTART;TZID=America/Los_Angeles:20170213T084000
DTEND;TZID=America/Los_Angeles:20170213T085000
DTSTAMP:20260423T103955
CREATED:20170106T065644Z
LAST-MODIFIED:20170131T013247Z
UID:1239-1486975200-1486975800@naturallyhealthydesserts.com
SUMMARY:KUSI: GOOD MORNING SAN DIEGO VALENTINES DAY DESSERTS
DESCRIPTION:Tune in to Good Morning San Diego  February 13th 9:20am to join Laura Marquis as she show you how to make a delicious and healthy valentines day treat.
URL:https://naturallyhealthydesserts.com/workshops-events/kusi-good-morning-san-diego-valentines-day-desserts
ATTACH;FMTTYPE=image/png:https://naturallyhealthydesserts.com/wp-content/uploads/2017/01/Screen-Shot-2017-01-30-at-5.31.41-PM.png
END:VEVENT
BEGIN:VEVENT
DTSTART;TZID=America/Los_Angeles:20170207T090000
DTEND;TZID=America/Los_Angeles:20170207T090000
DTSTAMP:20260423T103955
CREATED:20170131T013547Z
LAST-MODIFIED:20170208T022453Z
UID:1297-1486458000-1486458000@naturallyhealthydesserts.com
SUMMARY:CW6: SAN DIEGO VALENTINES DAY DESSERTS SEGMENT
DESCRIPTION:Join Laura as she shows you how to make a delicious and healthy valentines day treat. To view the video click the link HERE.
URL:https://naturallyhealthydesserts.com/workshops-events/cw6-san-diego-valentines-day-desserts-segment
ATTACH;FMTTYPE=image/png:https://naturallyhealthydesserts.com/wp-content/uploads/2017/01/Screen-Shot-2017-02-07-at-6.22.17-PM.png
END:VEVENT
BEGIN:VEVENT
DTSTART;TZID=America/Los_Angeles:20170104T092000
DTEND;TZID=America/Los_Angeles:20170104T092500
DTSTAMP:20260423T103955
CREATED:20161229T203159Z
LAST-MODIFIED:20170105T051104Z
UID:1188-1483521600-1483521900@naturallyhealthydesserts.com
SUMMARY:KUSI: GOOD MORNING SAN DIEGO SEGMENT
DESCRIPTION:Tune in to Good Morning San Diego January 4th 9:20am to join Laura Marquis as she discussed the top 3 food trends of 2017!
URL:https://naturallyhealthydesserts.com/workshops-events/kusi-good-morning-san-diego-cooking-segment-3
ATTACH;FMTTYPE=image/jpeg:https://naturallyhealthydesserts.com/wp-content/uploads/2016/12/FullSizeRender-2-1.jpg
END:VEVENT
BEGIN:VEVENT
DTSTART;TZID=America/Los_Angeles:20161228T090000
DTEND;TZID=America/Los_Angeles:20161228T090500
DTSTAMP:20260423T103955
CREATED:20161228T020414Z
LAST-MODIFIED:20161229T003451Z
UID:1153-1482915600-1482915900@naturallyhealthydesserts.com
SUMMARY:CW6: LIVING SAN DIEGO LIVING COOKING SEGMENT
DESCRIPTION:Join Laura as she teaches you how to make easy vegan New Years Eve themed desserts on ‎CW6 San Diego‬!\nClick Here for the link.
URL:https://naturallyhealthydesserts.com/workshops-events/cw6-living-san-diego-living-cooking-segment-3
ATTACH;FMTTYPE=image/png:https://naturallyhealthydesserts.com/wp-content/uploads/2016/12/Screen-Shot-2016-12-28-at-4.26.01-PM-e1482971260461.png
END:VEVENT
BEGIN:VEVENT
DTSTART;TZID=America/Los_Angeles:20161223T084000
DTEND;TZID=America/Los_Angeles:20161223T084500
DTSTAMP:20260423T103955
CREATED:20161215T030612Z
LAST-MODIFIED:20161223T212002Z
UID:1106-1482482400-1482482700@naturallyhealthydesserts.com
SUMMARY:KUSI: GOOD MORNING SAN DIEGO COOKING SEGMENT
DESCRIPTION:Tune in to Good Morning San Diego December 23rd at 8:40 to join Laura Marquis as she teaches you how to make healthy holiday peanut butter cups. \nClick here for segment.
URL:https://naturallyhealthydesserts.com/workshops-events/kusi-cooking-demo
ATTACH;FMTTYPE=image/png:https://naturallyhealthydesserts.com/wp-content/uploads/2016/12/Screen-Shot-2016-12-23-at-1.00.23-PM.png
END:VEVENT
BEGIN:VEVENT
DTSTART;TZID=America/Los_Angeles:20161220T102000
DTEND;TZID=America/Los_Angeles:20161220T224000
DTSTAMP:20260423T103955
CREATED:20161223T211710Z
LAST-MODIFIED:20161223T211821Z
UID:1115-1482229200-1482273600@naturallyhealthydesserts.com
SUMMARY:KPBS: Talking Food: How To Prepare Healthy\, Holiday Desserts
DESCRIPTION:Join Laura Marquis as she talks about her new book and puts a healthy twist on your favorite desserts. \nClick here for interview. \n 
URL:https://naturallyhealthydesserts.com/workshops-events/kpbs-talking-food-how-to-prepare-healthy-holiday-desserts
ATTACH;FMTTYPE=image/jpeg:https://naturallyhealthydesserts.com/wp-content/uploads/2016/12/FullSizeRender-1.jpg
END:VEVENT
BEGIN:VEVENT
DTSTART;TZID=America/Los_Angeles:20161204T050000
DTEND;TZID=America/Los_Angeles:20161204T183000
DTSTAMP:20260423T103955
CREATED:20161120T051801Z
LAST-MODIFIED:20161120T051801Z
UID:1067-1480827600-1480876200@naturallyhealthydesserts.com
SUMMARY:Raw Desserts Cooking Class to Support Rady Children's Hospital
DESCRIPTION:Come join Laura Marquis\, at Lianna’s 7th Annual Drop ‘n Shop Holiday Boutique to benefit Rady Children’s Hospital- San Diego! \nDesserts Menu will include: \nPumpkin Mouse  \nFig Bars \nVegan Eggnog  \nPeanut Butter Cups \n  \nThis is a donation based classes all proceeds will benefit Rady Children’s Hospital- San Diego. Bring a friend and “drop in” for the Holidays. Several vendors will “deck the halls” to help you find the perfect Holiday gifts for your loved ones.
URL:https://naturallyhealthydesserts.com/workshops-events/raw-desserts-cooking-class-to-support-rady-childrens-hospital
LOCATION:Treitler’s StoneBridge Estates\, 11204 Amberstone Court\, San Diego \, CA\, 92131\, United States
ATTACH;FMTTYPE=image/png:https://naturallyhealthydesserts.com/wp-content/uploads/2016/11/Screen-Shot-2016-11-19-at-8.42.48-PM.png
END:VEVENT
BEGIN:VEVENT
DTSTART;TZID=America/Los_Angeles:20161124T080000
DTEND;TZID=America/Los_Angeles:20161124T083000
DTSTAMP:20260423T103955
CREATED:20161121T072906Z
LAST-MODIFIED:20161124T202653Z
UID:1080-1479974400-1479976200@naturallyhealthydesserts.com
SUMMARY:KUSI: Good Morning San Diego Cooking Segment
DESCRIPTION:Tune in with Laura Marquis as she teaches you how to make an easy no bake thanksgiving cheesecake on KUSI Here.
URL:https://naturallyhealthydesserts.com/workshops-events/kusi-good-morning-san-diego-cooking-segment-2
ATTACH;FMTTYPE=image/png:https://naturallyhealthydesserts.com/wp-content/uploads/2016/11/Screen-Shot-2016-11-24-at-11.59.59-AM.png
END:VEVENT
BEGIN:VEVENT
DTSTART;TZID=America/Los_Angeles:20161119T080000
DTEND;TZID=America/Los_Angeles:20161119T170000
DTSTAMP:20260423T103955
CREATED:20161119T192750Z
LAST-MODIFIED:20161119T193745Z
UID:1058-1479542400-1479574800@naturallyhealthydesserts.com
SUMMARY:ABC 10 San Diego: Holiday Dessert Segment
DESCRIPTION:Laura Marquis shows healthy vegan holiday desserts that will leave everyone happy! Click HERE for video.
URL:https://naturallyhealthydesserts.com/workshops-events/abc-10-san-diego-holiday-dessert-segment
ATTACH;FMTTYPE=image/png:https://naturallyhealthydesserts.com/wp-content/uploads/2016/11/Screen-Shot-2016-11-19-at-11.08.31-AM.png
END:VEVENT
BEGIN:VEVENT
DTSTART;TZID=America/Los_Angeles:20161118T180000
DTEND;TZID=America/Los_Angeles:20161118T200000
DTSTAMP:20260423T103955
CREATED:20160823T071954Z
LAST-MODIFIED:20160831T004516Z
UID:878-1479492000-1479499200@naturallyhealthydesserts.com
SUMMARY:Veg-Appeal Cooking Demo
DESCRIPTION:Veg-Appel is putting on a holiday-inspired menu full of delicious vegan recipes. More info coming soon!
URL:https://naturallyhealthydesserts.com/workshops-events/veg-appeal-cooking-demo
LOCATION:Scripps Center for Integrative Medicine\, 10820 North Torrey Pines Road\, La Jolla\, CA\, 92037\, United States
ATTACH;FMTTYPE=image/png:https://naturallyhealthydesserts.com/wp-content/uploads/2016/08/Screen-Shot-2016-08-23-at-12.15.11-AM.png
END:VEVENT
BEGIN:VEVENT
DTSTART;TZID=America/Los_Angeles:20161103T080000
DTEND;TZID=America/Los_Angeles:20161103T170000
DTSTAMP:20260423T103955
CREATED:20161119T200459Z
LAST-MODIFIED:20161119T200506Z
UID:1064-1478160000-1478192400@naturallyhealthydesserts.com
SUMMARY:Taylormade: Adidas Golf Company
DESCRIPTION:Naturally Healthy Desserts will be sharing some desserts for Taylormade’s Healthy Happy Hour Event
URL:https://naturallyhealthydesserts.com/workshops-events/taylormade-adidas-golf-company
ATTACH;FMTTYPE=image/png:https://naturallyhealthydesserts.com/wp-content/uploads/2016/11/Screen-Shot-2016-11-19-at-11.59.13-AM.png
END:VEVENT
BEGIN:VEVENT
DTSTART;TZID=America/Los_Angeles:20161101T123000
DTEND;TZID=America/Los_Angeles:20161101T133000
DTSTAMP:20260423T103955
CREATED:20160811T033929Z
LAST-MODIFIED:20160811T034025Z
UID:773-1478003400-1478007000@naturallyhealthydesserts.com
SUMMARY:Good Life Lecture Series Presents: Laura Marquis
DESCRIPTION:Meet Laura as she shares her personal story about what inspired her to change her lifestyle and create Sweets In The Raw Naturally Healthy Desserts.
URL:https://naturallyhealthydesserts.com/workshops-events/good-life-lecture-series-presents-laura-marquis
LOCATION:Carlsbad City Library\, 1775 Dove Lane\, Carlsbad\, CA\, United States
ATTACH;FMTTYPE=image/png:https://naturallyhealthydesserts.com/wp-content/uploads/2016/08/Screen-Shot-2016-08-10-at-8.38.17-PM-e1470886756606.png
END:VEVENT
BEGIN:VEVENT
DTSTART;TZID=America/Los_Angeles:20160928T190000
DTEND;TZID=America/Los_Angeles:20160928T203000
DTSTAMP:20260423T103955
CREATED:20160907T043445Z
LAST-MODIFIED:20160907T051838Z
UID:962-1475089200-1475094600@naturallyhealthydesserts.com
SUMMARY:Private Event: Spouses Night Out
DESCRIPTION:Laura Marquis\, author of Sweets In The Raw: Naturally Healthy Desserts and owner of Marquis Pilates will be hosting a raw dessert demo where she’ll introduce techniques in making healthy sweet treats! These raw dessert recipes are quick and simple to make and provide your body with a ton of nutrients while you indulge! \nMenu includes: \nChocolate Truffles\nPumpkin Bars\nEggnog
URL:https://naturallyhealthydesserts.com/workshops-events/private-event-spouses-night-out
ATTACH;FMTTYPE=image/png:https://naturallyhealthydesserts.com/wp-content/uploads/2016/09/Screen-Shot-2016-09-06-at-9.32.57-PM.png
END:VEVENT
BEGIN:VEVENT
DTSTART;TZID=America/Los_Angeles:20160925T150000
DTEND;TZID=America/Los_Angeles:20160925T170000
DTSTAMP:20260423T103955
CREATED:20160924T221223Z
LAST-MODIFIED:20160924T221223Z
UID:1009-1474815600-1474822800@naturallyhealthydesserts.com
SUMMARY:Lorna Jane: National Active Day
DESCRIPTION:Join Laura as she samples desserts from her new Cookbook Sweets In The Raw at Lorna Jane in Fashion Valley for Active Nation Day!
URL:https://naturallyhealthydesserts.com/workshops-events/lorna-jane-national-active-day
ATTACH;FMTTYPE=image/png:https://naturallyhealthydesserts.com/wp-content/uploads/2016/09/Screen-Shot-2016-09-24-at-2.45.33-PM.png
END:VEVENT
BEGIN:VEVENT
DTSTART;TZID=America/Los_Angeles:20160925T120000
DTEND;TZID=America/Los_Angeles:20160925T140000
DTSTAMP:20260423T103955
CREATED:20160811T031831Z
LAST-MODIFIED:20160823T062430Z
UID:769-1474804800-1474812000@naturallyhealthydesserts.com
SUMMARY:Warwick's La Jolla-Cookbook Signing
DESCRIPTION:Meet Laura Marquis at Warwick’s: “The Country’s Oldest Family-Owned & Operated Bookstore!
URL:https://naturallyhealthydesserts.com/workshops-events/la-jolla-vegan-book-signing
LOCATION:Warwick’s\, 7812 Girard Ave\, La Jolla\, CA\, 92037\, United States
ATTACH;FMTTYPE=image/png:https://naturallyhealthydesserts.com/wp-content/uploads/2016/08/Screen-Shot-2016-08-22-at-11.22.15-PM-e1471933449418.png
END:VEVENT
BEGIN:VEVENT
DTSTART;TZID=America/New_York:20160915T180000
DTEND;TZID=America/New_York:20160915T193000
DTSTAMP:20260423T103955
CREATED:20160823T061500Z
LAST-MODIFIED:20160823T145548Z
UID:868-1473962400-1473967800@naturallyhealthydesserts.com
SUMMARY:City Market Cooking Demo
DESCRIPTION:Laura Marquis\, founder of Naturally Healthy Desserts and City Market are excited to announce they will be hosting a raw dessert demo in Burlington Vermont. Learn techniques in making healthy sweet treats! These recipes are quick and simple to make and provide your body with a ton of nutrients while you indulge! \nOn The Menu: \n\nPeanut Butter Cups\nStrawberry Cheesecakes\nFig Bars
URL:https://naturallyhealthydesserts.com/workshops-events/city-market-cooking-demo
LOCATION:City Market at Mcclure Multigenerational Center\, 241 N Winooski Ave\, Burlington\, VT\, 05401\, United States
ATTACH;FMTTYPE=image/png:https://naturallyhealthydesserts.com/wp-content/uploads/2016/08/Screen-Shot-2016-08-22-at-11.12.52-PM.png
END:VEVENT
BEGIN:VEVENT
DTSTART;TZID=America/Los_Angeles:20160915T073500
DTEND;TZID=America/Los_Angeles:20160915T074000
DTSTAMP:20260423T103955
CREATED:20160915T150351Z
LAST-MODIFIED:20160915T150700Z
UID:975-1473924900-1473925200@naturallyhealthydesserts.com
SUMMARY:WFFF: Fox44 VERMONT COOKING SEGMENT
DESCRIPTION:Click here to watch the segment.
URL:https://naturallyhealthydesserts.com/workshops-events/wfff-fox44-vermont-cooking-segment
ATTACH;FMTTYPE=image/png:https://naturallyhealthydesserts.com/wp-content/uploads/2016/09/Screen-Shot-2016-09-15-at-10.33.18-AM.png
END:VEVENT
BEGIN:VEVENT
DTSTART;TZID=America/Los_Angeles:20160915T064000
DTEND;TZID=America/Los_Angeles:20160915T064500
DTSTAMP:20260423T103955
CREATED:20160915T145009Z
LAST-MODIFIED:20160915T145409Z
UID:971-1473921600-1473921900@naturallyhealthydesserts.com
SUMMARY:WCAX: Burlington Vermont Cooking Segment: Part 2
DESCRIPTION:Click here to view the video.
URL:https://naturallyhealthydesserts.com/workshops-events/wcax-burlington-vermont-cooking-segment-part-2
ATTACH;FMTTYPE=image/png:https://naturallyhealthydesserts.com/wp-content/uploads/2016/09/Screen-Shot-2016-09-15-at-9.49.47-AM.png
END:VEVENT
BEGIN:VEVENT
DTSTART;TZID=America/Los_Angeles:20160915T061500
DTEND;TZID=America/Los_Angeles:20160915T064000
DTSTAMP:20260423T103955
CREATED:20160915T135844Z
LAST-MODIFIED:20160915T151748Z
UID:966-1473920100-1473921600@naturallyhealthydesserts.com
SUMMARY:WCAX: Burlington Vermont Cooking Segment: Part 1
DESCRIPTION:Click here to watch the segment.
URL:https://naturallyhealthydesserts.com/workshops-events/wcax-burlington-vermont-2-part-cooking-segment
ATTACH;FMTTYPE=image/png:https://naturallyhealthydesserts.com/wp-content/uploads/2016/09/Screen-Shot-2016-09-15-at-9.40.12-AM.png
END:VEVENT
BEGIN:VEVENT
DTSTART;TZID=America/New_York:20160911T150000
DTEND;TZID=America/New_York:20160911T170000
DTSTAMP:20260423T103955
CREATED:20160812T060759Z
LAST-MODIFIED:20160817T165012Z
UID:843-1473606000-1473613200@naturallyhealthydesserts.com
SUMMARY:Healthy Dessert Workshop: Canaan Vermont
DESCRIPTION:Laura Marquis and the Timeout Tavern at the Northland are excited to announce they are bringing a healthy dessert workshop to Cannan Vermont.\nEnjoy dessert samples inspired from the cookbook as you learn just how easy and delicious it can be to make healthy desserts without baking or refined sugar.\nRSVP to this event for a chance to win an autographed copy of Sweets in the Raw: Naturally Healthy Desserts \nBooks are available for pre-sale on Amazon.com\, Barnes & Noble.com or can be purchased at event.
URL:https://naturallyhealthydesserts.com/workshops-events/no-bake-healthy-dessert-workshop-timeout-tavern-the-northland-canaan-vt
LOCATION:Timeout Tavern at the Northland\, 114 Gale St\,  Canaan\, VT\, 05903\, United States
ATTACH;FMTTYPE=image/jpeg:https://naturallyhealthydesserts.com/wp-content/uploads/2016/02/IMG_2575-e1470891710929.jpg
END:VEVENT
BEGIN:VEVENT
DTSTART;TZID=America/Los_Angeles:20160903T110000
DTEND;TZID=America/Los_Angeles:20160903T130000
DTSTAMP:20260423T103955
CREATED:20160811T025053Z
LAST-MODIFIED:20160811T025141Z
UID:763-1472900400-1472907600@naturallyhealthydesserts.com
SUMMARY:Williams-Sonoma: No Bake Vegan Dessert Workshop
DESCRIPTION:Join Laura Marquis at Williams-Sonoma to discover how easy and delicious it can be to make healthy desserts without baking or refined sugar. \nRSVP Here \n*Class sizes are limited. Books available for purchase at event.
URL:https://naturallyhealthydesserts.com/workshops-events/williams-sonoma-no-bake-vegan-dessert-workshop
LOCATION:Williams Sonoma\, 4575 La Jolla Village Dr.\, San Diego\, CA\, 92122\, United States
ATTACH;FMTTYPE=image/png:https://naturallyhealthydesserts.com/wp-content/uploads/2016/08/Screen-Shot-2016-08-10-at-7.47.40-PM.png
END:VEVENT
BEGIN:VEVENT
DTSTART;TZID=America/Los_Angeles:20160901T180000
DTEND;TZID=America/Los_Angeles:20160901T200000
DTSTAMP:20260423T103955
CREATED:20160810T233344Z
LAST-MODIFIED:20160812T061244Z
UID:716-1472752800-1472760000@naturallyhealthydesserts.com
SUMMARY:Book Launch Party- True Food Kitchen
DESCRIPTION:Naturally Healthy Desserts\, True Food Kitchen Fashion Valley and Sunfood are happy to announce the official book release party for Sweets in the Raw: Naturally Healthy Desserts. After almost two years this one of a kind book is the only dessert cookbook that uses absolutely no refined sugar\, gluten or dairy! It is also 100% vegan and requires no baking at all! \nEnjoy unlimited dessert tastings inspired from the cookbook\, sips on fresh pressed juices from the True Food Kitchen Fashion Valley and enter into our many giveaways brought to you by Sunfood & Naturally Healthy Desserts. \nRSVP to this event to win an in home workshop tutorial.\nBooks are available at event for purchase.
URL:https://naturallyhealthydesserts.com/workshops-events/sample-event
LOCATION:True Foods Kitchen\, 7007 Friars Rd #394 \, San Diego\, CA\, 92108\, United States
ATTACH;FMTTYPE=image/png:https://naturallyhealthydesserts.com/wp-content/uploads/2016/08/Screen-Shot-2016-08-11-at-6.43.59-AM.png
END:VEVENT
BEGIN:VEVENT
DTSTART;TZID=America/Los_Angeles:20160831T095000
DTEND;TZID=America/Los_Angeles:20160831T100000
DTSTAMP:20260423T103955
CREATED:20160901T045950Z
LAST-MODIFIED:20160901T045954Z
UID:957-1472637000-1472637600@naturallyhealthydesserts.com
SUMMARY:CW6: Living San Diego Living Cooking Segment
DESCRIPTION:Watch it HERE!
URL:https://naturallyhealthydesserts.com/workshops-events/cw6-living-san-diego-living-cooking-segment-2
ATTACH;FMTTYPE=image/png:https://naturallyhealthydesserts.com/wp-content/uploads/2016/08/IMG_0700-e1472705969729.png
END:VEVENT
BEGIN:VEVENT
DTSTART;TZID=America/Los_Angeles:20160830T094000
DTEND;TZID=America/Los_Angeles:20160830T094500
DTSTAMP:20260423T103955
CREATED:20160831T003616Z
LAST-MODIFIED:20160901T050058Z
UID:951-1472550000-1472550300@naturallyhealthydesserts.com
SUMMARY:Fox 5: San Diego Cooking Segment
DESCRIPTION:Laura Marquis shows host Heather Lake how to make two easy vegan fall inspired desserts.
URL:https://naturallyhealthydesserts.com/workshops-events/fox-5-san-diego-cooking-segment
ATTACH;FMTTYPE=image/jpeg:https://naturallyhealthydesserts.com/wp-content/uploads/2016/08/FullSizeRender-1-e1472603699629.jpg
END:VEVENT
BEGIN:VEVENT
DTSTART;TZID=America/Los_Angeles:20160828T083500
DTEND;TZID=America/Los_Angeles:20160828T084500
DTSTAMP:20260423T103955
CREATED:20160828T012339Z
LAST-MODIFIED:20160831T004353Z
UID:928-1472373300-1472373900@naturallyhealthydesserts.com
SUMMARY:KUSI: Good Morning San Diego Cooking Segment
DESCRIPTION:Join Laura as she teaches you how to make 3 easy no bake after school snacks that take less than 5 minutes to make. Watch it HERE!
URL:https://naturallyhealthydesserts.com/workshops-events/kusi-good-morning-san-diego-cooking-segment
ATTACH;FMTTYPE=image/png:https://naturallyhealthydesserts.com/wp-content/uploads/2016/08/IMG_0636-e1472347352148.png
END:VEVENT
BEGIN:VEVENT
DTSTART;TZID=America/Los_Angeles:20160810T092500
DTEND;TZID=America/Los_Angeles:20160810T093500
DTSTAMP:20260423T103955
CREATED:20160811T034901Z
LAST-MODIFIED:20160811T040556Z
UID:776-1470821100-1470821700@naturallyhealthydesserts.com
SUMMARY:CW6: Living San Diego Living Cooking Segment
DESCRIPTION:Watch it HERE!
URL:https://naturallyhealthydesserts.com/workshops-events/cw6-living-san-diego-living-cooking-segment
ATTACH;FMTTYPE=image/png:https://naturallyhealthydesserts.com/wp-content/uploads/2016/02/Screen-Shot-2016-08-10-at-6.59.16-PM-e1470888350531.png
END:VEVENT
END:VCALENDAR